BEGIN:VCALENDAR
VERSION:2.0
PRODID:SchoolNow
CALSCALE:GREGORIAN
BEGIN:VEVENT
UID:21f489c2-8440-11f0-848e-02efef4a7877
DTSTAMP:20260408T202240Z
SUMMARY:CDD Board Meeting - Sept. 2026
LOCATION:Marriott Springhill Suites located at 16615 Crosspointe Run\, Land
  O’ Lakes\, FL 34638
URL;VALUE=URI:https://www.suncoastcdd.com/calendar/8555155/cdd-board-meetin
 g-sept-2026
DTSTART:20260909T230000Z
DTEND:20260910T000000Z
END:VEVENT
END:VCALENDAR
