BEGIN:VCALENDAR
VERSION:2.0
PRODID:SchoolNow
CALSCALE:GREGORIAN
BEGIN:VEVENT
UID:17289fd8-8440-11f0-a230-0a58a9feac02
DTSTAMP:20260408T202532Z
SUMMARY:CDD Board Meeting - Aug. 2026
LOCATION:Marriott Springhill Suites located at 16615 Crosspointe Run\, Land
  O’ Lakes\, FL 34638
URL;VALUE=URI:https://www.suncoastcdd.com/calendar/8555154/cdd-board-meetin
 g-aug-2026
DTSTART:20260812T230000Z
DTEND:20260813T000000Z
END:VEVENT
END:VCALENDAR
