BEGIN:VCALENDAR
VERSION:2.0
PRODID:SchoolNow
CALSCALE:GREGORIAN
BEGIN:VEVENT
UID:0eaf35d8-8440-11f0-8cd8-0e8b14fcf377
DTSTAMP:20260408T202218Z
SUMMARY:CDD Board Meeting - Jul. 2026
LOCATION:Marriott Springhill Suites located at 16615 Crosspointe Run\, Land
  O’ Lakes\, FL 34638
URL;VALUE=URI:https://www.suncoastcdd.com/calendar/8555153/cdd-board-meetin
 g-jul-2026
DTSTART:20260708T230000Z
DTEND:20260709T000000Z
END:VEVENT
END:VCALENDAR
