BEGIN:VCALENDAR
VERSION:2.0
PRODID:SchoolNow
CALSCALE:GREGORIAN
BEGIN:VEVENT
UID:fd2bf6b6-843f-11f0-a41d-0a58a9feac02
DTSTAMP:20260408T202204Z
SUMMARY:CDD Board Meeting - May 2026
LOCATION:Marriott Springhill Suites located at 16615 Crosspointe Run\, Land
  O’ Lakes\, FL 34638
URL;VALUE=URI:https://www.suncoastcdd.com/calendar/8555151/cdd-board-meetin
 g-may-2026
DTSTART:20260513T230000Z
DTEND:20260514T000000Z
END:VEVENT
END:VCALENDAR
