BEGIN:VCALENDAR
VERSION:2.0
PRODID:SchoolNow
CALSCALE:GREGORIAN
BEGIN:VEVENT
UID:ead907c4-843f-11f0-8a33-022e31aca1f7
DTSTAMP:20260304T213925Z
SUMMARY:CDD Board Meeting - Mar. 2026
LOCATION:Marriott Springhill Suites located at 16615 Crosspointe Run\, Land
  O’ Lakes\, FL 34638
URL;VALUE=URI:https://www.suncoastcdd.com/calendar/8555149/cdd-board-meetin
 g-mar-2026
DTSTART:20260311T230000Z
DTEND:20260312T000000Z
ATTACH;FILENAME=2026-03-11 SUNCOAST CDD AGENDA PACKAGE.pdf;FMTTYPE=applicat
 ion/pdf:https://campussuite-storage.s3.amazonaws.com/prod/1559262/06c086e8
 -1b03-11f0-9f1f-0a58a9feac02/3077029/9a4bc71c-1812-11f1-a209-0a58a9feac02/
 file/2026-03-11 SUNCOAST CDD AGENDA PACKAGE.pdf
END:VEVENT
END:VCALENDAR
