BEGIN:VCALENDAR
VERSION:2.0
PRODID:SchoolNow
CALSCALE:GREGORIAN
BEGIN:VEVENT
UID:e2823dfc-843f-11f0-b718-0a58a9feac02
DTSTAMP:20260204T191502Z
SUMMARY:CDD Board Meeting - Feb. 2026
LOCATION:Marriott Springhill Suites located at 16615 Crosspointe Run\, Land
  O’ Lakes\, FL 34638
URL;VALUE=URI:https://www.suncoastcdd.com/calendar/8555148/cdd-board-meetin
 g-feb-2026
DTSTART:20260212T000000Z
DTEND:20260212T010000Z
ATTACH;FILENAME=2026-02-11 SUNCOAST CDD AGENDA  PACKAGE UPDATED.pdf;FMTTYPE
 =application/pdf:https://campussuite-storage.s3.amazonaws.com/prod/1559262
 /06c086e8-1b03-11f0-9f1f-0a58a9feac02/3067415/c52e4d7c-01fd-11f1-bd7a-0a58
 a9feac02/file/2026-02-11 SUNCOAST CDD AGENDA  PACKAGE UPDATED.pdf
END:VEVENT
END:VCALENDAR
