BEGIN:VCALENDAR
VERSION:2.0
PRODID:SchoolNow
CALSCALE:GREGORIAN
BEGIN:VEVENT
UID:d354a75c-843f-11f0-8d09-0a58a9feac02
DTSTAMP:20260107T222053Z
SUMMARY:CDD Board Meeting - Jan. 2026
LOCATION:Marriott Springhill Suites located at 16615 Crosspointe Run\, Land
  O’ Lakes\, FL 34638
URL;VALUE=URI:https://www.suncoastcdd.com/calendar/8555147/cdd-board-meetin
 g-jan-2026
DTSTART:20260115T000000Z
DTEND:20260115T010000Z
ATTACH;FILENAME=2026-01-14 - Suncoast CDD - Final Agenda.pdf;FMTTYPE=applic
 ation/pdf:https://campussuite-storage.s3.amazonaws.com/prod/1559262/06c086
 e8-1b03-11f0-9f1f-0a58a9feac02/3058071/1e8f503e-ec17-11f0-b2da-0a58a9feac0
 2/file/2026-01-14 - Suncoast CDD - Final Agenda.pdf
END:VEVENT
END:VCALENDAR
