BEGIN:VCALENDAR
VERSION:2.0
PRODID:SchoolNow
CALSCALE:GREGORIAN
BEGIN:VEVENT
UID:c1f713c8-843f-11f0-8878-0afff983aa55
DTSTAMP:20251111T153737Z
SUMMARY:CDD Board Meeting - Nov. 2025
LOCATION:Marriott Springhill Suites located at 16615 Crosspointe Run\, Land
  O’ Lakes\, FL 34638
URL;VALUE=URI:https://www.suncoastcdd.com/calendar/8555145/cdd-board-meetin
 g-nov-2025
DTSTART:20251113T000000Z
DTEND:20251113T010000Z
ATTACH;FILENAME=2025-11-12 - Suncoast CDD - Revised Final Agenda.pdf;FMTTYP
 E=application/pdf:https://campussuite-storage.s3.amazonaws.com/prod/155926
 2/06c086e8-1b03-11f0-9f1f-0a58a9feac02/3035850/55e9bc7a-bf14-11f0-a8c4-0a5
 8a9feac02/file/2025-11-12 - Suncoast CDD - Revised Final Agenda.pdf
END:VEVENT
END:VCALENDAR
