BEGIN:VCALENDAR
VERSION:2.0
PRODID:SchoolNow
CALSCALE:GREGORIAN
BEGIN:VEVENT
UID:f97e3486-1f98-11f0-b09f-0a58a9feac02
DTSTAMP:20250422T201039Z
SUMMARY:CDD Board Meeting - April 2024
LOCATION:Marriott Springhill Suites located at 16615 Bexley Village Dr.\, L
 and O Lakes\, FL 34638
URL;VALUE=URI:https://www.suncoastcdd.com/calendar/7983569/cdd-board-meetin
 g-april-2024
DTSTART:20240410T230000Z
DTEND:20240411T000000Z
ATTACH;FILENAME=2024-04-10 Agenda - FY 2024 - Suncoast.pdf;FMTTYPE=applicat
 ion/pdf:https://campussuite-storage.s3.amazonaws.com/prod/1559262/06c086e8
 -1b03-11f0-9f1f-0a58a9feac02/2943446/fdb88760-1fb4-11f0-8c2a-0e616df63291/
 file/2024-04-10 Agenda - FY 2024 - Suncoast.pdf
ATTACH;FILENAME=2024-04-10 Meeting Book - FY 2024 - Suncoast.pdf;FMTTYPE=ap
 plication/pdf:https://campussuite-storage.s3.amazonaws.com/prod/1559262/06
 c086e8-1b03-11f0-9f1f-0a58a9feac02/2943439/fdb83404-1fb4-11f0-89dd-0e616df
 63291/file/2024-04-10 Meeting Book - FY 2024 - Suncoast.pdf
END:VEVENT
END:VCALENDAR
