BEGIN:VCALENDAR
VERSION:2.0
PRODID:SchoolNow
CALSCALE:GREGORIAN
BEGIN:VEVENT
UID:e29b0f3c-1f98-11f0-83c1-0a58a9feac02
DTSTAMP:20250422T201113Z
SUMMARY:CDD Board Meeting - May 2024
LOCATION:Marriott Springhill Suites located at 16615 Bexley Village Dr.\, L
 and O Lakes\, FL 34638
URL;VALUE=URI:https://www.suncoastcdd.com/calendar/7983568/cdd-board-meetin
 g-may-2024
DTSTART:20240508T230000Z
DTEND:20240509T000000Z
ATTACH;FILENAME=2024-05-08 Agenda - FY 2024 - Suncoast.pdf;FMTTYPE=applicat
 ion/pdf:https://campussuite-storage.s3.amazonaws.com/prod/1559262/06c086e8
 -1b03-11f0-9f1f-0a58a9feac02/2943447/fdb88850-1fb4-11f0-99fa-0e616df63291/
 file/2024-05-08 Agenda - FY 2024 - Suncoast.pdf
ATTACH;FILENAME=2024-05-08 Meeting Book - FY 2024 - Suncoast.pdf;FMTTYPE=ap
 plication/pdf:https://campussuite-storage.s3.amazonaws.com/prod/1559262/06
 c086e8-1b03-11f0-9f1f-0a58a9feac02/2943440/fdb87edc-1fb4-11f0-b6c7-0e616df
 63291/file/2024-05-08 Meeting Book - FY 2024 - Suncoast.pdf
END:VEVENT
END:VCALENDAR
