BEGIN:VCALENDAR
VERSION:2.0
PRODID:SchoolNow
CALSCALE:GREGORIAN
BEGIN:VEVENT
UID:d3c86dec-1f98-11f0-bc20-0ed256800e21
DTSTAMP:20250422T201135Z
SUMMARY:CDD Board Meeting - June 2024
LOCATION:Marriott Springhill Suites located at 16615 Bexley Village Dr.\, L
 and O Lakes\, FL 34638
URL;VALUE=URI:https://www.suncoastcdd.com/calendar/7983567/cdd-board-meetin
 g-june-2024
DTSTART:20240612T230000Z
DTEND:20240613T000000Z
ATTACH;FILENAME=2024-06-12 Agenda - FY 2024 - Suncoast.pdf;FMTTYPE=applicat
 ion/pdf:https://campussuite-storage.s3.amazonaws.com/prod/1559262/06c086e8
 -1b03-11f0-9f1f-0a58a9feac02/2943448/fdb8894a-1fb4-11f0-ad1b-0e616df63291/
 file/2024-06-12 Agenda - FY 2024 - Suncoast.pdf
ATTACH;FILENAME=2024-06-12 Meeting Book - FY 2024 - Suncoast.pdf;FMTTYPE=ap
 plication/pdf:https://campussuite-storage.s3.amazonaws.com/prod/1559262/06
 c086e8-1b03-11f0-9f1f-0a58a9feac02/2943441/fdb881e8-1fb4-11f0-9b54-0e616df
 63291/file/2024-06-12 Meeting Book - FY 2024 - Suncoast.pdf
END:VEVENT
END:VCALENDAR
