BEGIN:VCALENDAR
VERSION:2.0
PRODID:SchoolNow
CALSCALE:GREGORIAN
BEGIN:VEVENT
UID:b8a5a106-1f98-11f0-9057-0ed256800e21
DTSTAMP:20250422T201200Z
SUMMARY:CDD Board Meeting - July 2024
LOCATION:Marriott Springhill Suites located at 16615 Bexley Village Dr.\, L
 and O Lakes\, FL 34638
URL;VALUE=URI:https://www.suncoastcdd.com/calendar/7983566/cdd-board-meetin
 g-july-2024
DTSTART:20240710T230000Z
DTEND:20240711T000000Z
ATTACH;FILENAME=2024-07-10 Agenda - FY 2024 - Suncoast.pdf;FMTTYPE=applicat
 ion/pdf:https://campussuite-storage.s3.amazonaws.com/prod/1559262/06c086e8
 -1b03-11f0-9f1f-0a58a9feac02/2943449/fdb88a30-1fb4-11f0-a90c-0e616df63291/
 file/2024-07-10 Agenda - FY 2024 - Suncoast.pdf
ATTACH;FILENAME=2024-07-10 Meeting Book - FY 2024 - Suncoast.pdf;FMTTYPE=ap
 plication/pdf:https://campussuite-storage.s3.amazonaws.com/prod/1559262/06
 c086e8-1b03-11f0-9f1f-0a58a9feac02/2943442/fdb8833c-1fb4-11f0-9108-0e616df
 63291/file/2024-07-10 Meeting Book - FY 2024 - Suncoast.pdf
END:VEVENT
END:VCALENDAR
