BEGIN:VCALENDAR
VERSION:2.0
PRODID:SchoolNow
CALSCALE:GREGORIAN
BEGIN:VEVENT
UID:9e008e9c-1f98-11f0-ad52-02a2911488b3
DTSTAMP:20250422T201223Z
SUMMARY:CDD Board Meeting - August 2024 - Suncoast Public Hearing & Regular
  Meetings
LOCATION:Marriott Springhill Suites located at 16615 Bexley Village Dr.\, L
 and O Lakes\, FL 34638
URL;VALUE=URI:https://www.suncoastcdd.com/calendar/7983565/cdd-board-meetin
 g-august-2024-suncoast-public-hearing-regular-meetings
DTSTART:20240814T230000Z
DTEND:20240815T000000Z
ATTACH;FILENAME=2024-08-14 Agenda - FY 2024 - Suncoast Public Hearing - Reg
 ular Meetings.pdf;FMTTYPE=application/pdf:https://campussuite-storage.s3.a
 mazonaws.com/prod/1559262/06c086e8-1b03-11f0-9f1f-0a58a9feac02/2943450/fdb
 88b20-1fb4-11f0-93da-0e616df63291/file/2024-08-14 Agenda - FY 2024 - Sunco
 ast Public Hearing - Regular Meetings.pdf
END:VEVENT
END:VCALENDAR
