BEGIN:VCALENDAR
VERSION:2.0
PRODID:SchoolNow
CALSCALE:GREGORIAN
BEGIN:VEVENT
UID:38991312-1f98-11f0-bbb1-0a58a9feac02
DTSTAMP:20250910T174554Z
SUMMARY:CDD Board Meeting - September 2025
LOCATION:Marriott Springhill Suites located at 16615 Bexley Village Dr.\, L
 and O Lakes\, FL 34638
URL;VALUE=URI:https://www.suncoastcdd.com/calendar/7983563/cdd-board-meetin
 g-september-2025
DTSTART:20250910T230000Z
DTEND:20250911T000000Z
ATTACH;FILENAME=2025-09-10 Suncoast Agenda.pdf;FMTTYPE=application/pdf:http
 s://campussuite-storage.s3.amazonaws.com/prod/1559262/06c086e8-1b03-11f0-9
 f1f-0a58a9feac02/3005733/f974df64-8e6d-11f0-8e02-0a58a9feac02/file/2025-09
 -10 Suncoast Agenda.pdf
ATTACH;FILENAME=2025-09-10 Suncoast Agenda Package .pdf;FMTTYPE=application
 /pdf:https://campussuite-storage.s3.amazonaws.com/prod/1559262/06c086e8-1b
 03-11f0-9f1f-0a58a9feac02/3003041/d1b1f1f0-8973-11f0-88cd-022e31aca1f7/fil
 e/2025-09-10 Suncoast Agenda Package .pdf
END:VEVENT
END:VCALENDAR
