BEGIN:VCALENDAR
VERSION:2.0
PRODID:SchoolNow
CALSCALE:GREGORIAN
BEGIN:VEVENT
UID:11f901a4-1f98-11f0-ba5a-0275153bd84b
DTSTAMP:20250702T192331Z
SUMMARY:CDD Board Meeting - July 2025
LOCATION:Marriott Springhill Suites located at 16615 Bexley Village Dr.\, L
 and O Lakes\, FL 34638
URL;VALUE=URI:https://www.suncoastcdd.com/calendar/7983561/cdd-board-meetin
 g-july-2025
DTSTART:20250709T230000Z
DTEND:20250710T000000Z
ATTACH;FILENAME=2025-07-09 Suncoast Agenda.pdf;FMTTYPE=application/pdf:http
 s://campussuite-storage.s3.amazonaws.com/prod/1559262/06c086e8-1b03-11f0-9
 f1f-0a58a9feac02/2977935/fcac1268-5779-11f0-8c02-0a58a9feac02/file/2025-07
 -09 Suncoast Agenda.pdf
ATTACH;FILENAME=2025-07-09 Suncoast Agenda Package.pdf;FMTTYPE=application/
 pdf:https://campussuite-storage.s3.amazonaws.com/prod/1559262/06c086e8-1b0
 3-11f0-9f1f-0a58a9feac02/2977936/fcac589a-5779-11f0-980d-0a58a9feac02/file
 /2025-07-09 Suncoast Agenda Package.pdf
END:VEVENT
END:VCALENDAR
