BEGIN:VCALENDAR
VERSION:2.0
PRODID:SchoolNow
CALSCALE:GREGORIAN
BEGIN:VEVENT
UID:0002def2-1f98-11f0-9230-0afffa9229ed
DTSTAMP:20250604T193740Z
SUMMARY:CDD Board Meeting - June 2025
LOCATION:Marriott Springhill Suites located at 16615 Bexley Village Dr.\, L
 and O Lakes\, FL 34638
URL;VALUE=URI:https://www.suncoastcdd.com/calendar/7983560/cdd-board-meetin
 g-june-2025
DTSTART:20250611T230000Z
DTEND:20250612T000000Z
ATTACH;FILENAME=2025-06-11 Suncoast Agenda.pdf;FMTTYPE=application/pdf:http
 s://campussuite-storage.s3.amazonaws.com/prod/1559262/06c086e8-1b03-11f0-9
 f1f-0a58a9feac02/2964575/44887e06-417b-11f0-b6de-0a58a9feac02/file/2025-06
 -11 Suncoast Agenda.pdf
ATTACH;FILENAME=2025-06-11 Suncoast Agenda Package.pdf;FMTTYPE=application/
 pdf:https://campussuite-storage.s3.amazonaws.com/prod/1559262/06c086e8-1b0
 3-11f0-9f1f-0a58a9feac02/2964574/448830a4-417b-11f0-8c8b-0a58a9feac02/file
 /2025-06-11 Suncoast Agenda Package.pdf
END:VEVENT
END:VCALENDAR
