BEGIN:VCALENDAR
VERSION:2.0
PRODID:SchoolNow
CALSCALE:GREGORIAN
BEGIN:VEVENT
UID:f24c5f86-1f97-11f0-afd5-0afffa9229ed
DTSTAMP:20250507T162359Z
SUMMARY:CDD Board Meeting - May 2025
LOCATION:Marriott Springhill Suites located at 16615 Bexley Village Dr.\, L
 and O Lakes\, FL 34638
URL;VALUE=URI:https://www.suncoastcdd.com/calendar/7983559/cdd-board-meetin
 g-may-2025
DTSTART:20250514T230000Z
DTEND:20250515T000000Z
ATTACH;FILENAME=2025-05-14 Suncoast Agenda.pdf;FMTTYPE=application/pdf:http
 s://campussuite-storage.s3.amazonaws.com/prod/1559262/06c086e8-1b03-11f0-9
 f1f-0a58a9feac02/2950432/98c4c5c4-2b5f-11f0-905f-0a58a9feac02/file/2025-05
 -14 Suncoast Agenda.pdf
ATTACH;FILENAME=2025-05-14 Suncoast CDD Agenda Package .pdf;FMTTYPE=applica
 tion/pdf:https://campussuite-storage.s3.amazonaws.com/prod/1559262/06c086e
 8-1b03-11f0-9f1f-0a58a9feac02/2950431/98c4c2cc-2b5f-11f0-9c79-0a58a9feac02
 /file/2025-05-14 Suncoast CDD Agenda Package .pdf
END:VEVENT
END:VCALENDAR
