BEGIN:VCALENDAR
VERSION:2.0
PRODID:SchoolNow
CALSCALE:GREGORIAN
BEGIN:VEVENT
UID:e4725f32-1f97-11f0-a39a-02fab38cb7a5
DTSTAMP:20250423T143255Z
SUMMARY:CDD Board Meeting - April 2025
LOCATION:Marriott Springhill Suites located at 16615 Bexley Village Dr.\, L
 and O Lakes\, FL 34638
URL;VALUE=URI:https://www.suncoastcdd.com/calendar/7983558/cdd-board-meetin
 g-april-2025
DTSTART:20250409T230000Z
DTEND:20250410T000000Z
ATTACH;FILENAME=2025-04-09 Suncoast Agenda.pdf;FMTTYPE=application/pdf:http
 s://campussuite-storage.s3.amazonaws.com/prod/1559262/06c086e8-1b03-11f0-9
 f1f-0a58a9feac02/2943597/cde79bf2-204f-11f0-8463-0afff138b5bd/file/2025-04
 -09 Suncoast Agenda.pdf
ATTACH;FILENAME=2025-04-09 Suncoast CDD Agenda Package.pdf;FMTTYPE=applicat
 ion/pdf:https://campussuite-storage.s3.amazonaws.com/prod/1559262/06c086e8
 -1b03-11f0-9f1f-0a58a9feac02/2943598/cde7ccda-204f-11f0-937c-0afff138b5bd/
 file/2025-04-09 Suncoast CDD Agenda Package.pdf
END:VEVENT
END:VCALENDAR
