BEGIN:VCALENDAR
VERSION:2.0
PRODID:SchoolNow
CALSCALE:GREGORIAN
BEGIN:VEVENT
UID:d368e616-1f97-11f0-ad54-02a2911488b3
DTSTAMP:20250422T201654Z
SUMMARY:CDD Board Meeting - April 2025 - Budget Planning Workshop
LOCATION:Marriott Springhill Suites located at 16615 Bexley Village Dr.\, L
 and O Lakes\, FL 34638
URL;VALUE=URI:https://www.suncoastcdd.com/calendar/7983557/cdd-board-meetin
 g-april-2025-budget-planning-workshop
DTSTART:20250408T220000Z
DTEND:20250408T230000Z
ATTACH;FILENAME=2025-04-08 Meeting Book - FY 2025 - Suncoast.pdf;FMTTYPE=ap
 plication/pdf:https://campussuite-storage.s3.amazonaws.com/prod/1559262/06
 c086e8-1b03-11f0-9f1f-0a58a9feac02/2943458/33c2657e-1fb5-11f0-a1b2-0a58a9f
 eac02/file/2025-04-08 Meeting Book - FY 2025 - Suncoast.pdf
END:VEVENT
END:VCALENDAR
