BEGIN:VCALENDAR
VERSION:2.0
PRODID:SchoolNow
CALSCALE:GREGORIAN
BEGIN:VEVENT
UID:ab604fc4-1f97-11f0-95ed-0a58a9feac02
DTSTAMP:20250422T201515Z
SUMMARY:CDD Board Meeting - March 2025
LOCATION:Marriott Springhill Suites located at 16615 Bexley Village Dr.\, L
 and O Lakes\, FL 34638
URL;VALUE=URI:https://www.suncoastcdd.com/calendar/7983556/cdd-board-meetin
 g-march-2025
DTSTART:20250312T230000Z
DTEND:20250313T000000Z
ATTACH;FILENAME=2025-03-12 Meeting Book - FY 2025 - Suncoast.pdf;FMTTYPE=ap
 plication/pdf:https://campussuite-storage.s3.amazonaws.com/prod/1559262/06
 c086e8-1b03-11f0-9f1f-0a58a9feac02/2943459/33c2666e-1fb5-11f0-a32d-0a58a9f
 eac02/file/2025-03-12 Meeting Book - FY 2025 - Suncoast.pdf
END:VEVENT
END:VCALENDAR
