BEGIN:VCALENDAR
VERSION:2.0
PRODID:SchoolNow
CALSCALE:GREGORIAN
BEGIN:VEVENT
UID:9cd2e188-1f97-11f0-ad6a-0a58a9feac02
DTSTAMP:20250422T201812Z
SUMMARY:CDD Board Meeting - February 2025
LOCATION:Marriott Springhill Suites located at 16615 Bexley Village Dr.\, L
 and O Lakes\, FL 34638
URL;VALUE=URI:https://www.suncoastcdd.com/calendar/7983555/cdd-board-meetin
 g-february-2025
DTSTART:20250213T000000Z
DTEND:20250213T010000Z
ATTACH;FILENAME=2025-02-12 Agenda - FY 2025 - Suncoast.pdf;FMTTYPE=applicat
 ion/pdf:https://campussuite-storage.s3.amazonaws.com/prod/1559262/06c086e8
 -1b03-11f0-9f1f-0a58a9feac02/2943453/33c228ca-1fb5-11f0-bc71-0a58a9feac02/
 file/2025-02-12 Agenda - FY 2025 - Suncoast.pdf
ATTACH;FILENAME=2025-02-12 Meeting Book - FY 2025 - Suncoast.pdf;FMTTYPE=ap
 plication/pdf:https://campussuite-storage.s3.amazonaws.com/prod/1559262/06
 c086e8-1b03-11f0-9f1f-0a58a9feac02/2943460/33c26768-1fb5-11f0-8d92-0a58a9f
 eac02/file/2025-02-12 Meeting Book - FY 2025 - Suncoast.pdf
END:VEVENT
END:VCALENDAR
