BEGIN:VCALENDAR
VERSION:2.0
PRODID:SchoolNow
CALSCALE:GREGORIAN
BEGIN:VEVENT
UID:8a107ff6-1f97-11f0-8d78-0a58a9feac02
DTSTAMP:20250422T201427Z
SUMMARY:CDD Board Meeting - January 2025
LOCATION:Marriott Springhill Suites located at 16615 Bexley Village Dr.\, L
 and O Lakes\, FL 34638
URL;VALUE=URI:https://www.suncoastcdd.com/calendar/7983554/cdd-board-meetin
 g-january-2025
DTSTART:20250109T000000Z
DTEND:20250109T010000Z
ATTACH;FILENAME=2025-01-08 Agenda - FY 2025 - Suncoast.pdf;FMTTYPE=applicat
 ion/pdf:https://campussuite-storage.s3.amazonaws.com/prod/1559262/06c086e8
 -1b03-11f0-9f1f-0a58a9feac02/2943454/33c25f70-1fb5-11f0-a9ca-0a58a9feac02/
 file/2025-01-08 Agenda - FY 2025 - Suncoast.pdf
ATTACH;FILENAME=2025-01-08 Meeting Book - FY 2025 - Suncoast.pdf;FMTTYPE=ap
 plication/pdf:https://campussuite-storage.s3.amazonaws.com/prod/1559262/06
 c086e8-1b03-11f0-9f1f-0a58a9feac02/2943461/33c26858-1fb5-11f0-97ec-0a58a9f
 eac02/file/2025-01-08 Meeting Book - FY 2025 - Suncoast.pdf
END:VEVENT
END:VCALENDAR
