BEGIN:VCALENDAR
VERSION:2.0
PRODID:SchoolNow
CALSCALE:GREGORIAN
BEGIN:VEVENT
UID:771c8a52-1f97-11f0-9187-0a58a9feac02
DTSTAMP:20250422T201400Z
SUMMARY:CDD Board Meeting - December 2024
LOCATION:Marriott Springhill Suites located at 16615 Bexley Village Dr.\, L
 and O Lakes\, FL 34638
URL;VALUE=URI:https://www.suncoastcdd.com/calendar/7983553/cdd-board-meetin
 g-december-2024
DTSTART:20241212T000000Z
DTEND:20241212T010000Z
ATTACH;FILENAME=2024-12-11 Agenda - FY 2025 - Suncoast.pdf;FMTTYPE=applicat
 ion/pdf:https://campussuite-storage.s3.amazonaws.com/prod/1559262/06c086e8
 -1b03-11f0-9f1f-0a58a9feac02/2943455/33c26218-1fb5-11f0-b173-0a58a9feac02/
 file/2024-12-11 Agenda - FY 2025 - Suncoast.pdf
ATTACH;FILENAME=2024-12-11 Meeting Book - FY 2025 - Suncoast.pdf;FMTTYPE=ap
 plication/pdf:https://campussuite-storage.s3.amazonaws.com/prod/1559262/06
 c086e8-1b03-11f0-9f1f-0a58a9feac02/2943462/33c2693e-1fb5-11f0-81ec-0a58a9f
 eac02/file/2024-12-11 Meeting Book - FY 2025 - Suncoast.pdf
END:VEVENT
END:VCALENDAR
