BEGIN:VCALENDAR
VERSION:2.0
PRODID:SchoolNow
CALSCALE:GREGORIAN
BEGIN:VEVENT
UID:5d2b12bc-1f97-11f0-97a0-0affe54e9969
DTSTAMP:20250422T201339Z
SUMMARY:CDD Board Meeting - November 2024
LOCATION:Marriott Springhill Suites located at 16615 Bexley Village Dr.\, L
 and O Lakes\, FL 34638
URL;VALUE=URI:https://www.suncoastcdd.com/calendar/7983552/cdd-board-meetin
 g-november-2024
DTSTART:20241114T000000Z
DTEND:20241114T010000Z
ATTACH;FILENAME=2024-11-13 Agenda - FY 2025 - Suncoas.pdf;FMTTYPE=applicati
 on/pdf:https://campussuite-storage.s3.amazonaws.com/prod/1559262/06c086e8-
 1b03-11f0-9f1f-0a58a9feac02/2943456/33c26358-1fb5-11f0-9787-0a58a9feac02/f
 ile/2024-11-13 Agenda - FY 2025 - Suncoas.pdf
ATTACH;FILENAME=2024-11-13 Meeting Book - FY 2025 - Suncoas.pdf;FMTTYPE=app
 lication/pdf:https://campussuite-storage.s3.amazonaws.com/prod/1559262/06c
 086e8-1b03-11f0-9f1f-0a58a9feac02/2943463/33c26a2e-1fb5-11f0-8e6b-0a58a9fe
 ac02/file/2024-11-13 Meeting Book - FY 2025 - Suncoas.pdf
END:VEVENT
END:VCALENDAR
