BEGIN:VCALENDAR
VERSION:2.0
PRODID:SchoolNow
CALSCALE:GREGORIAN
BEGIN:VEVENT
UID:4f8ec112-1f97-11f0-bbe8-0a58a9feac02
DTSTAMP:20250422T201320Z
SUMMARY:CDD Board Meeting - October 2024 - Cancelled
LOCATION:Marriott Springhill Suites located at 16615 Bexley Village Dr.\, L
 and O Lakes\, FL 34638
URL;VALUE=URI:https://www.suncoastcdd.com/calendar/7983551/cdd-board-meetin
 g-october-2024-cancelled
DTSTART:20241009T230000Z
DTEND:20241010T000000Z
ATTACH;FILENAME=2024-10-08 Agenda - FY 2025 - Suncoast.pdf;FMTTYPE=applicat
 ion/pdf:https://campussuite-storage.s3.amazonaws.com/prod/1559262/06c086e8
 -1b03-11f0-9f1f-0a58a9feac02/2943457/33c26470-1fb5-11f0-bd4e-0a58a9feac02/
 file/2024-10-08 Agenda - FY 2025 - Suncoast.pdf
ATTACH;FILENAME=2024-10-09 Meeting Book - FY 2025 - Suncoast.pdf;FMTTYPE=ap
 plication/pdf:https://campussuite-storage.s3.amazonaws.com/prod/1559262/06
 c086e8-1b03-11f0-9f1f-0a58a9feac02/2943464/33c26b14-1fb5-11f0-a71a-0a58a9f
 eac02/file/2024-10-09 Meeting Book - FY 2025 - Suncoast.pdf
END:VEVENT
END:VCALENDAR
