BEGIN:VCALENDAR
VERSION:2.0
PRODID:SchoolNow
CALSCALE:GREGORIAN
BEGIN:VEVENT
UID:2c1c2314-1f97-11f0-9606-02fab38cb7a5
DTSTAMP:20250422T201252Z
SUMMARY:CDD Board Meeting - September 2024
LOCATION:Marriott Springhill Suites located at 16615 Bexley Village Dr.\, L
 and O Lakes\, FL 34638
URL;VALUE=URI:https://www.suncoastcdd.com/calendar/7983550/cdd-board-meetin
 g-september-2024
DTSTART:20240911T230000Z
DTEND:20240912T000000Z
ATTACH;FILENAME=2024-09-11 Agenda - FY 2024 - Suncoast.pdf;FMTTYPE=applicat
 ion/pdf:https://campussuite-storage.s3.amazonaws.com/prod/1559262/06c086e8
 -1b03-11f0-9f1f-0a58a9feac02/2943451/fdb88c42-1fb4-11f0-80e9-0e616df63291/
 file/2024-09-11 Agenda - FY 2024 - Suncoast.pdf
ATTACH;FILENAME=2024-09-11 Meeting Book - FY 2024 - Suncoast.pdf;FMTTYPE=ap
 plication/pdf:https://campussuite-storage.s3.amazonaws.com/prod/1559262/06
 c086e8-1b03-11f0-9f1f-0a58a9feac02/2943445/fdb88670-1fb4-11f0-9577-0e616df
 63291/file/2024-09-11 Meeting Book - FY 2024 - Suncoast.pdf
END:VEVENT
END:VCALENDAR
